BEGIN:VCALENDAR
VERSION:2.0
PRODID:-//Rüngsdorfer Kulturbad e.V. - ECPv6.15.20//NONSGML v1.0//EN
CALSCALE:GREGORIAN
METHOD:PUBLISH
X-WR-CALNAME:Rüngsdorfer Kulturbad e.V.
X-ORIGINAL-URL:https://ruengsdorfer-kulturbad.de
X-WR-CALDESC:Veranstaltungen für Rüngsdorfer Kulturbad e.V.
REFRESH-INTERVAL;VALUE=DURATION:PT1H
X-Robots-Tag:noindex
X-PUBLISHED-TTL:PT1H
BEGIN:VTIMEZONE
TZID:Europe/Paris
BEGIN:DAYLIGHT
TZOFFSETFROM:+0100
TZOFFSETTO:+0200
TZNAME:CEST
DTSTART:20250330T010000
END:DAYLIGHT
BEGIN:STANDARD
TZOFFSETFROM:+0200
TZOFFSETTO:+0100
TZNAME:CET
DTSTART:20251026T010000
END:STANDARD
BEGIN:DAYLIGHT
TZOFFSETFROM:+0100
TZOFFSETTO:+0200
TZNAME:CEST
DTSTART:20260329T010000
END:DAYLIGHT
BEGIN:STANDARD
TZOFFSETFROM:+0200
TZOFFSETTO:+0100
TZNAME:CET
DTSTART:20261025T010000
END:STANDARD
BEGIN:DAYLIGHT
TZOFFSETFROM:+0100
TZOFFSETTO:+0200
TZNAME:CEST
DTSTART:20270328T010000
END:DAYLIGHT
BEGIN:STANDARD
TZOFFSETFROM:+0200
TZOFFSETTO:+0100
TZNAME:CET
DTSTART:20271031T010000
END:STANDARD
END:VTIMEZONE
BEGIN:VEVENT
DTSTART;TZID=Europe/Paris:20260425T200000
DTEND;TZID=Europe/Paris:20260425T220000
DTSTAMP:20260426T013649
CREATED:20260120T145927Z
LAST-MODIFIED:20260406T100811Z
UID:7684-1777147200-1777154400@ruengsdorfer-kulturbad.de
SUMMARY:25.4. | 20 Uhr: OVER THE BORDER FESTIVAL - Gert Kapo Quartet Feat. Merve Akyildiz
DESCRIPTION:25. April | Rüngsdorfer Kulturbad | OVER THE BORDER 2026\nAm 25. April präsentiert das Gert Kapo Quartett im Kulturbad ein Konzert\, das den grenzübergreifenden Geist in besonderer Weise verkörpert: Musik als verbindende Kraft zwischen Kulturen\, Traditionen und modernen Klangwelten. Der in Albanien geborene Pianist und Local Ambassador der ersten Stunde Gert Kapo bringt mit seinem Projekt Amanet eine ebenso energetische wie poetische Fusion aus Jazz\, Balkantraditionen und orientalischen Einflüssen auf die Bühne – ein lebendiges musikalisches Erbe\, das neu erzählt wird. \nAls Special Guest erweitert die Pianistin\, Sängerin und Songwriterin Merve Akyıldız den Abend um ihre unverwechselbare musikalische Handschrift. Ihre mazedonischen Wurzeln\, ihre Erfahrungen in Klassik\, Jazz und Weltmusik sowie ihre starke Bühnenpräsenz machen sie zu einer außergewöhnlichen Botschafterin gelebter kultureller Vielfalt. \nGemeinsam schaffen sie ein Programm\, das Grenzen überwindet – stilistisch wie geografisch. Neu arrangierte Lieder aus dem Balkan- und orientalischen Raum treffen auf fließende Jazz-Vibes\, virtuose Improvisationen und den einzigartigen Sound des Quartetts. Ein Abend voller Begegnungen\, an dem Musik zur Brücke wird. \nTICKETS: www.bonnticket.de (Eintritt: 29 Euro) \n\nOrt: Rügsdorfer KulturBad\, Rheintr. 82\, 53179 Bonn\nZeit: 25.4.2026\, 20.00 Uhr\n\nWeitere Infos zum OVER THE BORDER FESTIVAL: www.overtheborder-festival.de
URL:https://ruengsdorfer-kulturbad.de/event/otb-kapo/
LOCATION:Rüngsdorfer KulturBad\, Rheinstraße 82\, Bonn\, NRW\, 53179
ATTACH;FMTTYPE=image/png:https://ruengsdorfer-kulturbad.de/wp-content/uploads/2026/01/OTB-2026-Gert-Kapo-Facebook.png
END:VEVENT
END:VCALENDAR